Package: MethylMix Version: 2.32.0 Command: /Library/Frameworks/R.framework/Resources/bin/R CMD INSTALL MethylMix StartedAt: 2024-04-15 16:03:57 -0400 (Mon, 15 Apr 2024) EndedAt: 2024-04-15 16:04:17 -0400 (Mon, 15 Apr 2024) EllapsedTime: 19.2 seconds RetCode: 0 Status: OK