Package: MethylMix Version: 2.32.0 Command: rm -rf MethylMix.buildbin-libdir && mkdir MethylMix.buildbin-libdir && /Users/biocbuild/BBS/utils/build-universal.sh MethylMix_2.32.0.tar.gz /Library/Frameworks/R.framework/Resources/bin/R MethylMix.buildbin-libdir StartedAt: 2024-04-16 12:11:11 -0400 (Tue, 16 Apr 2024) EndedAt: 2024-04-16 12:11:35 -0400 (Tue, 16 Apr 2024) EllapsedTime: 23.8 seconds RetCode: 0 Status: OK PackageFile: MethylMix_2.32.0.tgz PackageFileSize: 3.026 MiB