Package: MethylMix Version: 2.32.0 Command: /home/biocbuild/R/R-4.3.1/bin/R CMD check --install=check:MethylMix.install-out.txt --library=/home/biocbuild/R/R-4.3.1/site-library --no-vignettes --timings MethylMix_2.32.0.tar.gz StartedAt: 2023-11-02 12:03:26 -0000 (Thu, 02 Nov 2023) EndedAt: 2023-11-02 12:06:07 -0000 (Thu, 02 Nov 2023) EllapsedTime: 161.1 seconds RetCode: 0 Status: OK CheckDir: MethylMix.Rcheck Warnings: 0