Package: MethPed Version: 1.30.0 Command: /Library/Frameworks/R.framework/Resources/bin/R CMD INSTALL MethPed StartedAt: 2024-03-03 15:30:50 -0500 (Sun, 03 Mar 2024) EndedAt: 2024-03-03 15:31:00 -0500 (Sun, 03 Mar 2024) EllapsedTime: 9.4 seconds RetCode: 0 Status: OK