git_url: https://git.bioconductor.org/packages/MethCP git_branch: devel git_last_commit: 2bc4bbb git_last_commit_date: 2023-03-30 12:46:14 -0400 (Thu, 30 Mar 2023) Package: MethCP Version: 1.13.1 Maintainer: Boying Gong MaintainerEmail: jorothy_gong at berkeley.edu