Package: MetaboSignal Version: 1.32.1 Command: /Library/Frameworks/R.framework/Resources/bin/R CMD build --keep-empty-dirs --no-resave-data MetaboSignal StartedAt: 2024-03-03 17:18:07 -0500 (Sun, 03 Mar 2024) EndedAt: 2024-03-03 17:20:27 -0500 (Sun, 03 Mar 2024) EllapsedTime: 140.5 seconds RetCode: 0 Status: OK PackageFile: MetaboSignal_1.32.1.tar.gz PackageFileSize: 2.089 MiB