Package: MetaboSignal Version: 1.32.0 Command: /home/biocbuild/R/R-4.3.1/bin/R CMD build --keep-empty-dirs --no-resave-data MetaboSignal StartedAt: 2023-11-02 03:08:29 -0000 (Thu, 02 Nov 2023) EndedAt: 2023-11-02 03:48:30 -0000 (Thu, 02 Nov 2023) EllapsedTime: 2400.9 seconds RetCode: None Status: TIMEOUT PackageFile: None PackageFileSize: NA