Package: Metab Version: 1.36.0 Command: chmod a+r Metab -R && F:\biocbuild\bbs-3.18-bioc\R\bin\R.exe CMD build --keep-empty-dirs --no-resave-data Metab StartedAt: 2024-04-15 19:25:02 -0400 (Mon, 15 Apr 2024) EndedAt: 2024-04-15 19:26:07 -0400 (Mon, 15 Apr 2024) EllapsedTime: 65.3 seconds RetCode: 1 Status: ERROR PackageFile: None PackageFileSize: NA