Package: MetNet Version: 1.20.0 Command: /home/biocbuild/R/R-4.3.1/bin/R CMD build --keep-empty-dirs --no-resave-data MetNet StartedAt: 2023-11-02 03:26:26 -0000 (Thu, 02 Nov 2023) EndedAt: 2023-11-02 03:27:26 -0000 (Thu, 02 Nov 2023) EllapsedTime: 60.1 seconds RetCode: 0 Status: OK PackageFile: MetNet_1.20.0.tar.gz PackageFileSize: 4.128 MiB