Package: MetCirc Version: 1.32.0 Command: F:\biocbuild\bbs-3.18-bioc\R\bin\R.exe CMD INSTALL MetCirc StartedAt: 2024-04-15 16:10:21 -0400 (Mon, 15 Apr 2024) EndedAt: 2024-04-15 16:10:40 -0400 (Mon, 15 Apr 2024) EllapsedTime: 19.3 seconds RetCode: 0 Status: OK