Package: MetCirc Version: 1.32.0 Command: chmod a+r MetCirc -R && F:\biocbuild\bbs-3.18-bioc\R\bin\R.exe CMD build --keep-empty-dirs --no-resave-data MetCirc StartedAt: 2024-04-15 19:27:09 -0400 (Mon, 15 Apr 2024) EndedAt: 2024-04-15 19:29:27 -0400 (Mon, 15 Apr 2024) EllapsedTime: 138.9 seconds RetCode: 0 Status: OK PackageFile: MetCirc_1.32.0.tar.gz PackageFileSize: 2.069 MiB