Package: MetCirc Version: 1.32.0 Command: /Library/Frameworks/R.framework/Resources/bin/R CMD check --install=check:MetCirc.install-out.txt --library=/Library/Frameworks/R.framework/Resources/library --no-vignettes --timings MetCirc_1.32.0.tar.gz StartedAt: 2024-03-03 21:41:41 -0500 (Sun, 03 Mar 2024) EndedAt: 2024-03-03 21:45:35 -0500 (Sun, 03 Mar 2024) EllapsedTime: 234.0 seconds RetCode: 0 Status: OK CheckDir: MetCirc.Rcheck Warnings: 0