Package: MetCirc Version: 1.32.0 Command: /home/biocbuild/R/R-4.3.1/bin/R CMD check --install=check:MetCirc.install-out.txt --library=/home/biocbuild/R/R-4.3.1/site-library --no-vignettes --timings MetCirc_1.32.0.tar.gz StartedAt: 2023-11-02 12:00:09 -0000 (Thu, 02 Nov 2023) EndedAt: 2023-11-02 12:04:27 -0000 (Thu, 02 Nov 2023) EllapsedTime: 258.0 seconds RetCode: 0 Status: OK CheckDir: MetCirc.Rcheck Warnings: 0