Package: MesKit Version: 1.12.0 Command: /Library/Frameworks/R.framework/Resources/bin/R CMD INSTALL MesKit StartedAt: 2024-04-15 15:41:29 -0400 (Mon, 15 Apr 2024) EndedAt: 2024-04-15 15:42:17 -0400 (Mon, 15 Apr 2024) EllapsedTime: 47.5 seconds RetCode: 0 Status: OK