Package: Mergeomics Version: 1.30.0 Command: /home/biocbuild/R/R-4.3.1/bin/R CMD check --install=check:Mergeomics.install-out.txt --library=/home/biocbuild/R/R-4.3.1/site-library --no-vignettes --timings Mergeomics_1.30.0.tar.gz StartedAt: 2023-11-02 11:55:20 -0000 (Thu, 02 Nov 2023) EndedAt: 2023-11-02 12:11:22 -0000 (Thu, 02 Nov 2023) EllapsedTime: 961.7 seconds RetCode: 0 Status: OK CheckDir: Mergeomics.Rcheck Warnings: 0