Package: Melissa Version: 1.18.0 Command: /Library/Frameworks/R.framework/Resources/bin/R CMD build --keep-empty-dirs --no-resave-data Melissa StartedAt: 2024-04-15 19:50:04 -0400 (Mon, 15 Apr 2024) EndedAt: 2024-04-15 19:57:48 -0400 (Mon, 15 Apr 2024) EllapsedTime: 464.4 seconds RetCode: 0 Status: OK PackageFile: Melissa_1.18.0.tar.gz PackageFileSize: 2.883 MiB