Package: MeasurementError.cor Version: 1.74.0 Command: F:\biocbuild\bbs-3.18-bioc\R\bin\R.exe CMD check --no-multiarch --install=check:MeasurementError.cor.install-out.txt --library=F:\biocbuild\bbs-3.18-bioc\R\library --no-vignettes --timings MeasurementError.cor_1.74.0.tar.gz StartedAt: 2024-04-16 02:22:10 -0400 (Tue, 16 Apr 2024) EndedAt: 2024-04-16 02:22:36 -0400 (Tue, 16 Apr 2024) EllapsedTime: 26.0 seconds RetCode: 0 Status: OK CheckDir: MeasurementError.cor.Rcheck Warnings: 0