Package: MeasurementError.cor Version: 1.74.0 Command: /home/biocbuild/bbs-3.18-bioc/R/bin/R CMD check --install=check:MeasurementError.cor.install-out.txt --library=/home/biocbuild/bbs-3.18-bioc/R/site-library --timings MeasurementError.cor_1.74.0.tar.gz StartedAt: 2024-04-16 00:33:31 -0400 (Tue, 16 Apr 2024) EndedAt: 2024-04-16 00:33:49 -0400 (Tue, 16 Apr 2024) EllapsedTime: 18.0 seconds RetCode: 0 Status: OK CheckDir: MeasurementError.cor.Rcheck Warnings: 0