Package: MeasurementError.cor Version: 1.74.0 Command: /home/biocbuild/R/R-4.3.1/bin/R CMD INSTALL MeasurementError.cor StartedAt: 2023-11-01 20:08:14 -0000 (Wed, 01 Nov 2023) EndedAt: 2023-11-01 20:08:24 -0000 (Wed, 01 Nov 2023) EllapsedTime: 10.8 seconds RetCode: 0 Status: OK