Package: MeSHDbi Version: 1.38.0 Command: chmod a+r MeSHDbi -R && F:\biocbuild\bbs-3.18-bioc\R\bin\R.exe CMD build --keep-empty-dirs --no-resave-data MeSHDbi StartedAt: 2024-04-15 19:24:35 -0400 (Mon, 15 Apr 2024) EndedAt: 2024-04-15 19:24:58 -0400 (Mon, 15 Apr 2024) EllapsedTime: 23.6 seconds RetCode: 0 Status: OK PackageFile: MeSHDbi_1.38.0.tar.gz PackageFileSize: 51.69 KiB