Package: MeSHDbi Version: 1.38.0 Command: rm -rf MeSHDbi.buildbin-libdir && mkdir MeSHDbi.buildbin-libdir && F:\biocbuild\bbs-3.18-bioc\R\bin\R.exe CMD INSTALL --build --library=MeSHDbi.buildbin-libdir MeSHDbi_1.38.0.tar.gz StartedAt: 2024-04-16 07:15:02 -0400 (Tue, 16 Apr 2024) EndedAt: 2024-04-16 07:15:37 -0400 (Tue, 16 Apr 2024) EllapsedTime: 35.1 seconds RetCode: 0 Status: OK PackageFile: MeSHDbi_1.38.0.zip PackageFileSize: 467.9 KiB