Package: MeSHDbi Version: 1.38.0 Command: /home/biocbuild/bbs-3.18-bioc/R/bin/R CMD INSTALL MeSHDbi StartedAt: 2024-04-15 15:17:12 -0400 (Mon, 15 Apr 2024) EndedAt: 2024-04-15 15:17:25 -0400 (Mon, 15 Apr 2024) EllapsedTime: 13.0 seconds RetCode: 0 Status: OK