Package: MeSHDbi Version: 1.38.0 Command: /Library/Frameworks/R.framework/Resources/bin/R CMD INSTALL MeSHDbi StartedAt: 2024-04-15 15:26:56 -0400 (Mon, 15 Apr 2024) EndedAt: 2024-04-15 15:27:23 -0400 (Mon, 15 Apr 2024) EllapsedTime: 27.3 seconds RetCode: 0 Status: OK