Package: MeSHDbi Version: 1.38.0 Command: /Library/Frameworks/R.framework/Resources/bin/R CMD check --install=check:MeSHDbi.install-out.txt --library=/Library/Frameworks/R.framework/Resources/library --no-vignettes --timings MeSHDbi_1.38.0.tar.gz StartedAt: 2024-04-16 05:01:52 -0400 (Tue, 16 Apr 2024) EndedAt: 2024-04-16 05:05:30 -0400 (Tue, 16 Apr 2024) EllapsedTime: 218.0 seconds RetCode: 0 Status: OK CheckDir: MeSHDbi.Rcheck Warnings: 0