Package: MeSHDbi Version: 1.38.0 Command: /Library/Frameworks/R.framework/Resources/bin/R CMD build --keep-empty-dirs --no-resave-data MeSHDbi StartedAt: 2024-03-03 17:17:37 -0500 (Sun, 03 Mar 2024) EndedAt: 2024-03-03 17:18:00 -0500 (Sun, 03 Mar 2024) EllapsedTime: 22.7 seconds RetCode: 0 Status: OK PackageFile: MeSHDbi_1.38.0.tar.gz PackageFileSize: 119.6 KiB