Package: MeSHDbi Version: 1.38.0 Command: /home/biocbuild/R/R-4.3.1/bin/R CMD INSTALL MeSHDbi StartedAt: 2023-11-01 20:19:44 -0000 (Wed, 01 Nov 2023) EndedAt: 2023-11-01 20:20:02 -0000 (Wed, 01 Nov 2023) EllapsedTime: 17.4 seconds RetCode: 0 Status: OK