Package: MatrixGenerics Version: 1.14.0 Command: F:\biocbuild\bbs-3.18-bioc\R\bin\R.exe CMD check --no-multiarch --install=check:MatrixGenerics.install-out.txt --library=F:\biocbuild\bbs-3.18-bioc\R\library --no-vignettes --timings MatrixGenerics_1.14.0.tar.gz StartedAt: 2024-04-16 02:18:33 -0400 (Tue, 16 Apr 2024) EndedAt: 2024-04-16 02:19:14 -0400 (Tue, 16 Apr 2024) EllapsedTime: 40.2 seconds RetCode: 0 Status: OK CheckDir: MatrixGenerics.Rcheck Warnings: 0