Package: MatrixGenerics Version: 1.14.0 Command: /home/biocbuild/bbs-3.18-bioc/R/bin/R CMD check --install=check:MatrixGenerics.install-out.txt --library=/home/biocbuild/bbs-3.18-bioc/R/site-library --timings MatrixGenerics_1.14.0.tar.gz StartedAt: 2024-04-16 00:29:40 -0400 (Tue, 16 Apr 2024) EndedAt: 2024-04-16 00:30:04 -0400 (Tue, 16 Apr 2024) EllapsedTime: 24.3 seconds RetCode: 0 Status: OK CheckDir: MatrixGenerics.Rcheck Warnings: 0