Package: MatrixGenerics Version: 1.14.0 Command: /Library/Frameworks/R.framework/Resources/bin/R CMD build --keep-empty-dirs --no-resave-data MatrixGenerics StartedAt: 2024-03-03 17:15:24 -0500 (Sun, 03 Mar 2024) EndedAt: 2024-03-03 17:15:25 -0500 (Sun, 03 Mar 2024) EllapsedTime: 1.1 seconds RetCode: 0 Status: OK PackageFile: MatrixGenerics_1.14.0.tar.gz PackageFileSize: 30.52 KiB