Package: MantelCorr Version: 1.72.0 Command: /home/biocbuild/R/R-4.3.1/bin/R CMD build --keep-empty-dirs --no-resave-data MantelCorr StartedAt: 2023-11-02 02:49:53 -0000 (Thu, 02 Nov 2023) EndedAt: 2023-11-02 02:50:16 -0000 (Thu, 02 Nov 2023) EllapsedTime: 23.0 seconds RetCode: 0 Status: OK PackageFile: MantelCorr_1.72.0.tar.gz PackageFileSize: 928 KiB