Package: Macarron Version: 1.6.0 Command: rm -rf Macarron.buildbin-libdir && mkdir Macarron.buildbin-libdir && F:\biocbuild\bbs-3.18-bioc\R\bin\R.exe CMD INSTALL --build --library=Macarron.buildbin-libdir Macarron_1.6.0.tar.gz StartedAt: 2024-04-16 07:13:18 -0400 (Tue, 16 Apr 2024) EndedAt: 2024-04-16 07:13:48 -0400 (Tue, 16 Apr 2024) EllapsedTime: 30.4 seconds RetCode: 0 Status: OK PackageFile: Macarron_1.6.0.zip PackageFileSize: 642.3 KiB