Package: Macarron Version: 1.6.0 Command: /Library/Frameworks/R.framework/Resources/bin/R CMD INSTALL Macarron StartedAt: 2024-04-15 16:18:17 -0400 (Mon, 15 Apr 2024) EndedAt: 2024-04-15 16:19:02 -0400 (Mon, 15 Apr 2024) EllapsedTime: 45.3 seconds RetCode: 0 Status: OK