Package: Macarron Version: 1.6.0 Command: rm -rf Macarron.buildbin-libdir && mkdir Macarron.buildbin-libdir && /Users/biocbuild/BBS/utils/build-universal.sh Macarron_1.6.0.tar.gz /Library/Frameworks/R.framework/Resources/bin/R Macarron.buildbin-libdir StartedAt: 2024-03-04 00:48:25 -0500 (Mon, 04 Mar 2024) EndedAt: 2024-03-04 00:48:58 -0500 (Mon, 04 Mar 2024) EllapsedTime: 33.0 seconds RetCode: 0 Status: OK PackageFile: Macarron_1.6.0.tgz PackageFileSize: 640.5 KiB