Package: Macarron Version: 1.6.0 Command: /home/biocbuild/R/R-4.3.1/bin/R CMD build --keep-empty-dirs --no-resave-data Macarron StartedAt: 2023-11-02 02:45:55 -0000 (Thu, 02 Nov 2023) EndedAt: 2023-11-02 02:46:54 -0000 (Thu, 02 Nov 2023) EllapsedTime: 59.1 seconds RetCode: 0 Status: OK PackageFile: Macarron_1.6.0.tar.gz PackageFileSize: 1018 KiB