Package: Maaslin2 Version: 1.16.0 Command: rm -rf Maaslin2.buildbin-libdir && mkdir Maaslin2.buildbin-libdir && F:\biocbuild\bbs-3.18-bioc\R\bin\R.exe CMD INSTALL --build --library=Maaslin2.buildbin-libdir Maaslin2_1.16.0.tar.gz StartedAt: 2024-04-16 07:13:16 -0400 (Tue, 16 Apr 2024) EndedAt: 2024-04-16 07:13:32 -0400 (Tue, 16 Apr 2024) EllapsedTime: 15.6 seconds RetCode: 0 Status: OK PackageFile: Maaslin2_1.16.0.zip PackageFileSize: 606 KiB