Package: Maaslin2 Version: 1.16.0 Command: /home/biocbuild/bbs-3.18-bioc/R/bin/R CMD check --install=check:Maaslin2.install-out.txt --library=/home/biocbuild/bbs-3.18-bioc/R/site-library --timings Maaslin2_1.16.0.tar.gz StartedAt: 2024-04-16 00:23:08 -0400 (Tue, 16 Apr 2024) EndedAt: 2024-04-16 00:28:44 -0400 (Tue, 16 Apr 2024) EllapsedTime: 336.0 seconds RetCode: 0 Status: OK CheckDir: Maaslin2.Rcheck Warnings: 0