Package: MVCClass Version: 1.76.0 Command: /Library/Frameworks/R.framework/Resources/bin/R CMD INSTALL MVCClass StartedAt: 2024-03-03 15:03:48 -0500 (Sun, 03 Mar 2024) EndedAt: 2024-03-03 15:04:09 -0500 (Sun, 03 Mar 2024) EllapsedTime: 21.2 seconds RetCode: 0 Status: OK