Package: MSstatsShiny Version: 1.4.3 Command: rm -rf MSstatsShiny.buildbin-libdir && mkdir MSstatsShiny.buildbin-libdir && F:\biocbuild\bbs-3.18-bioc\R\bin\R.exe CMD INSTALL --build --library=MSstatsShiny.buildbin-libdir MSstatsShiny_1.4.3.tar.gz StartedAt: 2024-04-16 07:20:12 -0400 (Tue, 16 Apr 2024) EndedAt: 2024-04-16 07:20:47 -0400 (Tue, 16 Apr 2024) EllapsedTime: 34.8 seconds RetCode: 0 Status: OK PackageFile: MSstatsShiny_1.4.3.zip PackageFileSize: 2.297 MiB