Package: MSstatsConvert Version: 1.12.1 Command: F:\biocbuild\bbs-3.18-bioc\R\bin\R.exe CMD INSTALL MSstatsConvert StartedAt: 2024-04-15 15:40:57 -0400 (Mon, 15 Apr 2024) EndedAt: 2024-04-15 15:41:15 -0400 (Mon, 15 Apr 2024) EllapsedTime: 17.8 seconds RetCode: 0 Status: OK