Package: MSstatsConvert Version: 1.12.1 Command: chmod a+r MSstatsConvert -R && F:\biocbuild\bbs-3.18-bioc\R\bin\R.exe CMD build --keep-empty-dirs --no-resave-data MSstatsConvert StartedAt: 2024-04-15 19:46:25 -0400 (Mon, 15 Apr 2024) EndedAt: 2024-04-15 19:46:43 -0400 (Mon, 15 Apr 2024) EllapsedTime: 18.3 seconds RetCode: 0 Status: OK PackageFile: MSstatsConvert_1.12.1.tar.gz PackageFileSize: 1.749 MiB