Package: MSstats Version: 4.10.1 Command: rm -rf MSstats.buildbin-libdir && mkdir MSstats.buildbin-libdir && /Users/biocbuild/BBS/utils/build-universal.sh MSstats_4.10.1.tar.gz /Library/Frameworks/R.framework/Resources/bin/R MSstats.buildbin-libdir StartedAt: 2024-04-16 12:16:55 -0400 (Tue, 16 Apr 2024) EndedAt: 2024-04-16 12:18:43 -0400 (Tue, 16 Apr 2024) EllapsedTime: 108.8 seconds RetCode: 0 Status: OK PackageFile: MSstats_4.10.1.tgz PackageFileSize: 697.3 KiB