Package: MSstats Version: 4.10.1 Command: /Library/Frameworks/R.framework/Resources/bin/R CMD check --install=check:MSstats.install-out.txt --library=/Library/Frameworks/R.framework/Resources/library --no-vignettes --timings MSstats_4.10.1.tar.gz StartedAt: 2024-03-03 22:02:48 -0500 (Sun, 03 Mar 2024) EndedAt: 2024-03-03 22:04:59 -0500 (Sun, 03 Mar 2024) EllapsedTime: 131.0 seconds RetCode: 0 Status: WARNINGS CheckDir: MSstats.Rcheck Warnings: 1