Package: MSstats Version: 4.10.1 Command: rm -rf MSstats.buildbin-libdir && mkdir MSstats.buildbin-libdir && /Users/biocbuild/BBS/utils/build-universal.sh MSstats_4.10.1.tar.gz /Library/Frameworks/R.framework/Resources/bin/R MSstats.buildbin-libdir StartedAt: 2024-03-04 00:52:23 -0500 (Mon, 04 Mar 2024) EndedAt: 2024-03-04 00:53:24 -0500 (Mon, 04 Mar 2024) EllapsedTime: 61.0 seconds RetCode: 0 Status: OK PackageFile: MSstats_4.10.1.tgz PackageFileSize: 697.3 KiB