Package: MSnbase Version: 2.28.1 Command: /Library/Frameworks/R.framework/Resources/bin/R CMD INSTALL MSnbase StartedAt: 2024-03-03 15:20:26 -0500 (Sun, 03 Mar 2024) EndedAt: 2024-03-03 15:21:31 -0500 (Sun, 03 Mar 2024) EllapsedTime: 65.0 seconds RetCode: 0 Status: OK