Package: MSnID Version: 1.36.0 Command: chmod a+r MSnID -R && F:\biocbuild\bbs-3.18-bioc\R\bin\R.exe CMD build --keep-empty-dirs --no-resave-data MSnID StartedAt: 2024-04-15 19:45:27 -0400 (Mon, 15 Apr 2024) EndedAt: 2024-04-15 19:47:25 -0400 (Mon, 15 Apr 2024) EllapsedTime: 117.4 seconds RetCode: 0 Status: OK PackageFile: MSnID_1.36.0.tar.gz PackageFileSize: 2.98 MiB