Package: MSnID Version: 1.36.0 Command: /Library/Frameworks/R.framework/Resources/bin/R CMD INSTALL MSnID StartedAt: 2024-04-15 16:42:09 -0400 (Mon, 15 Apr 2024) EndedAt: 2024-04-15 16:43:05 -0400 (Mon, 15 Apr 2024) EllapsedTime: 56.5 seconds RetCode: 0 Status: OK