Package: MSnID Version: 1.36.0 Command: rm -rf MSnID.buildbin-libdir && mkdir MSnID.buildbin-libdir && /Users/biocbuild/BBS/utils/build-universal.sh MSnID_1.36.0.tar.gz /Library/Frameworks/R.framework/Resources/bin/R MSnID.buildbin-libdir StartedAt: 2024-04-16 12:16:25 -0400 (Tue, 16 Apr 2024) EndedAt: 2024-04-16 12:17:27 -0400 (Tue, 16 Apr 2024) EllapsedTime: 62.6 seconds RetCode: 0 Status: OK PackageFile: MSnID_1.36.0.tgz PackageFileSize: 3.965 MiB