Package: MQmetrics Version: 1.10.0 Command: chmod a+r MQmetrics -R && F:\biocbuild\bbs-3.18-bioc\R\bin\R.exe CMD build --keep-empty-dirs --no-resave-data MQmetrics StartedAt: 2024-04-15 19:43:13 -0400 (Mon, 15 Apr 2024) EndedAt: 2024-04-15 19:43:32 -0400 (Mon, 15 Apr 2024) EllapsedTime: 18.3 seconds RetCode: 1 Status: ERROR PackageFile: None PackageFileSize: NA