Package: MPRAnalyze Version: 1.20.0 Command: /Library/Frameworks/R.framework/Resources/bin/R CMD build --keep-empty-dirs --no-resave-data MPRAnalyze StartedAt: 2024-03-03 17:28:18 -0500 (Sun, 03 Mar 2024) EndedAt: 2024-03-03 17:30:16 -0500 (Sun, 03 Mar 2024) EllapsedTime: 117.3 seconds RetCode: 0 Status: OK PackageFile: MPRAnalyze_1.20.0.tar.gz PackageFileSize: 406.9 KiB