Package: MPRAnalyze Version: 1.20.0 Maintainer: Tal Ashuach MaintainerEmail: tal_ashuach at berkeley.edu git_url: https://git.bioconductor.org/packages/MPRAnalyze git_branch: RELEASE_3_18 git_last_commit: dcb9ac4 git_last_commit_date: 2023-10-24 11:08:22 -0400 (Tue, 24 Oct 2023)